BEGIN:VCALENDAR
VERSION:2.0
PRODID:-//Svenja Zoppa | Heilpraktikerin für Psychotherapie  - ECPv6.15.20//NONSGML v1.0//EN
CALSCALE:GREGORIAN
METHOD:PUBLISH
X-WR-CALNAME:Svenja Zoppa | Heilpraktikerin für Psychotherapie 
X-ORIGINAL-URL:https://www.svenjazoppa.de
X-WR-CALDESC:Veranstaltungen für Svenja Zoppa | Heilpraktikerin für Psychotherapie 
REFRESH-INTERVAL;VALUE=DURATION:PT1H
X-Robots-Tag:noindex
X-PUBLISHED-TTL:PT1H
BEGIN:VTIMEZONE
TZID:Europe/Berlin
BEGIN:DAYLIGHT
TZOFFSETFROM:+0100
TZOFFSETTO:+0200
TZNAME:CEST
DTSTART:20250330T010000
END:DAYLIGHT
BEGIN:STANDARD
TZOFFSETFROM:+0200
TZOFFSETTO:+0100
TZNAME:CET
DTSTART:20251026T010000
END:STANDARD
BEGIN:DAYLIGHT
TZOFFSETFROM:+0100
TZOFFSETTO:+0200
TZNAME:CEST
DTSTART:20260329T010000
END:DAYLIGHT
BEGIN:STANDARD
TZOFFSETFROM:+0200
TZOFFSETTO:+0100
TZNAME:CET
DTSTART:20261025T010000
END:STANDARD
BEGIN:DAYLIGHT
TZOFFSETFROM:+0100
TZOFFSETTO:+0200
TZNAME:CEST
DTSTART:20270328T010000
END:DAYLIGHT
BEGIN:STANDARD
TZOFFSETFROM:+0200
TZOFFSETTO:+0100
TZNAME:CET
DTSTART:20271031T010000
END:STANDARD
END:VTIMEZONE
BEGIN:VEVENT
DTSTART;TZID=Europe/Berlin:20260413T170000
DTEND;TZID=Europe/Berlin:20260608T183000
DTSTAMP:20260425T172414
CREATED:20260219T113220Z
LAST-MODIFIED:20260413T072311Z
UID:3759-1776099600-1780943400@www.svenjazoppa.de
SUMMARY:sanftes Hatha Yoga | 8 x montags ab 13.04.26 | Yoga Präventionskurs § 20 SGB
DESCRIPTION: Nervensystemfreundliches Hatha Yoga\nYoga Präventionskurs § 20 SGB V\n\n\nYoga ist nicht das Streben nach Perfektion\, sondern das bewusste Spüren des Moments. \n B.K.S. Iyengar \n\n\nSanft kräftigend. Regulativ. Raumgebend.\nDieser Montagabend ist eine Möglichkeit\, bewusst im Hier und Jetzt anzukommen – über Atem\, Bewegung und Wahrnehmung. Eine Zeit\, in der du Stress loslassen\, Kraft aufbauen und dich gleichzeitig ruhig und präsent fühlen kannst. \nDer Kurs verbindet achtsam angeleitetes Hatha Yoga mit körperpsychotherapeutischem Wissen über Nervensystem\, Selbstregulation und innere Stabilität. Daraus entsteht eine Praxis\, die zugleich stärkend und entspannend wirkt – klar geführt\, langsam aufgebaut und frei von Leistungsdruck. \n\nFür wen der Kurs geeignet ist\nDieser Kurs richtet sich an Menschen jeden Alters und jeder Erfahrungsstufe – ob du neu beginnst oder bereits Yoga kennst. \nBesonders passend ist er für dich\, wenn du dir eine Praxis wünschst\, die \n\nstärkend statt erschöpfend wirkt\nStress reguliert und Energie aufbaut\ndich über Atem und Bewegung ins Hier und Jetzt bringt\nachtsam statt leistungsorientiert ist\n\nKörperliche und mentale Voraussetzungen\nDieser Kurs ist für alle Level geeignet und richtet sich an Körper mit normaler Alltagsbeweglichkeit. Die Übungen werden ruhig und überwiegend am Boden ausgeführt. Wichtig ist\, dass du selbstständig auf den Boden und wieder nach oben kommen kannst und dich grundsätzlich schmerzfrei bewegen kannst. \nLeichte Verspannungen oder eingeschränkte Beweglichkeit sind kein Hindernis. Bei stärkeren körperlichen Einschränkungen\, akuten Beschwerden oder Unsicherheiten kläre bitte vorab mit einer Ärztin oder einem Arzt\, ob eine Teilnahme sinnvoll ist. \nNicht geeignet\, wenn du ein anspruchsvolles Power-Yoga-Workout erwartest oder dich in einer akuten psychiatrischen Krise befindest. In solchen Fällen ist eine individuelle Begleitung sinnvoller – melde dich  gerne vorab bei mir\, wenn du unsicher sein solltest: info@svenjazoppa.de \n\nWas dich in den Stunden erwartet\nDie Praxis ist langsam\, klar strukturiert und anfängerfreundlich – und zugleich sanft kräftigend für Körper und Geist. \nWir arbeiten mit einem bewussten Wechsel aus Bewegung\, Atem und Wahrnehmung: \n\naktive und passive Haltungen in ausgewogener Abfolge\nsanfte Kräftigung für Muskeln und Faszien\nlangsame Bewegungssequenzen für Stabilität und Koordination\nAtemübungen zur Regulation und zum Weiten der Atemräume\nachtsame Körper- und Geisteswahrnehmung im gegenwärtigen Moment\n\nAlle Haltungen werden in mehreren Varianten angeleitet\, sodass du jederzeit wählen kannst\, welche Intensität gerade passend ist. So entsteht eine Praxis\, die dich stärkt\, ohne dich zu überfordern. \n\nKursüberblick\nSanft kräftigendes\, nervensystemfreundliches Hatha Yoga zum Wochenbeginn: Dieser Präventionskurs verbindet ruhige Bewegung\, bewusste Atmung und achtsame Wahrnehmung zu einer stärkenden Praxis für Körper und Geist. Dich erwartet eine feste Gruppe\, ausreichend Raum für dich und eine klare\, anfängerfreundliche Anleitung – für mehr Stabilität\, Präsenz und innere Balance. \nDer Kurs ist bewusst so gestaltet\, dass er dich zum Wochenbeginn zentriert und aufbaut: \n\nruhiges Tempo mit Zeit zum Spüren und Integrieren\nAufbau von Kraft\, Stabilität und Beweglichkeit\nVertiefung der Atmung und Erweiterung des inneren Raums\nFörderung von Präsenz\, Selbstwirksamkeit und Balance\nRegeneration statt Leistungsorientierung\n\nDie Praxis ist modern\, körperorientiert und geerdet spirituell – ohne Dogma\, dafür mit viel Raum für eigene Erfahrung. \n\nDauer: 8 Wochen\, 1 Termin/ Woche á 90 Minuten\nKursdaten: 13.04.26\, 20.04.26\, 27.04.26\, 04.05.26\, 11.05.26 18.05.25\, Pause am Pfingstmontag\, 01.06.26 und 08.06.26\nKosten: 189\,00 € inkl. Teilnahmebescheinigung – 80 – 100 % werden von deiner Krankenkasse rückerstattet.*\nfeste\, geschlossene Gruppe\nruhige Atmosphäre mit begrenzter Teilnehmerzahl\, damit jede Person ausreichend Raum für sich hat.\n\n*Bitte erkundige dich vorab bei deiner Krankenkasse\, wie hoch deine Erstattung sein wird. \nAblauf Erstattungsverfahren: \n\nDu meldest dich an und zahlst die Kursgebühr.\nDu nimmst zu mindestens 80 % an dem Kurs teil.\nNach Kursabschluss erhältst du von mir eine Teilnahmebescheinigung.\nDiese reichst du bei der Krankenkasse ein.\nDu bekommst den erstattungsfähigen Anteil von deiner Krankenkasse überwiesen. (Info bei deiner Krankenkasse)\n\nDirekt zur Anmeldung\n\nDeine Begleitung\n \nIch bin Svenja\, Körperpsychotherapeutin und Yogalehrerin.In meinen Kursen verbinde ich moderne Yogapraxis mit fundiertem Nervensystemwissen und körperorientierter Begleitung. Mein Anliegen ist es\, Räume zu schaffen\, in denen du dich selbst besser wahrnehmen\, regulieren und stärken kannst. \nIch freue mich auf dich! \n\nDer Raum\nYoga im Hof ist mehr als ein Yogastudio\n \nYoga im Hof lädt dich ein\, tiefer zu spüren\, dich zu verbinden und einen Ort zu entdecken\, an dem Veränderung ganz natürlich passieren darf. \nVor Ort ist für alles gesorgt: extra breite Matten\,  Decken\, Kissen\, Bolster… du brauchst nur dich selbst mitbringen. \n\nrechtliche Hinweise\n\nDieser Kurs ist ein Angebot der Gesundheitsprävention. Er ersetzt keine medizinische oder psychotherapeutische Behandlung\, kann diese jedoch unterstützend ergänzen. Bei akuten Beschwerden\, chronischen Erkrankungen oder Unsicherheiten konsultiere bitte vorab deine Ärztin/deinen Arzt.\nDie Teilnahme erfolgt auf eigene Verantwortung.\nDieser Kurs ist als Präventionskurs nach § 20 SGB V zertifiziert. Die Erstattung durch die Krankenkasse kann unterschiedlich sein. Bitte kläre die Details direkt mit deiner Kasse.\nStornierungsfrist: 10 Tage vor Kursbegin kostenlos\, danach 50 % der Kursgebühr.\n\n\nHier geht´s zur Anmeldung:
URL:https://www.svenjazoppa.de/veranstaltung/hatha-yoga-praeventionskurs-13-04-26/
LOCATION:Yoga im Hof\, Beethovenstraße 42\, Hamburg\, Hamburg\, 22083\, Germany
CATEGORIES:Körperarbeit,Präventionskurs,Yogakurs
ATTACH;FMTTYPE=image/png:https://www.svenjazoppa.de/wp-content/uploads/1-10.png
ORGANIZER;CN="Svenja Zoppa - Heilpraktikerin f%C3%BCr Psychotherapie":MAILTO:info@svenjazoppa.de
END:VEVENT
END:VCALENDAR